BEGIN:VCALENDAR
VERSION:2.0
PRODID:-//eventon.com NONSGML v1.0//EN
CALSCALE:GREGORIAN
METHOD:PUBLISH
BEGIN:VEVENT
UID:69eb4443e43f5
DTSTAMP:20260424T102155
DTSTART:20160619T170000Z
DTEND:20160619T180000Z
TZID:UTC
LOCATION:
SUMMARY:Dam Fine Affair
DESCRIPTION:Return to the Compasses Damerham for a Dam Fine Affair!\nhttps://www.motherukers.com/events/dam-fine-affair/
URL:https://www.motherukers.com/events/dam-fine-affair/
END:VEVENT
END:VCALENDAR